BEGIN:VCALENDAR
VERSION:2.0
PRODID:-// - ECPv6.15.20//NONSGML v1.0//EN
CALSCALE:GREGORIAN
METHOD:PUBLISH
X-ORIGINAL-URL:https://erato-kultur.ch
X-WR-CALDESC:Veranstaltungen für 
REFRESH-INTERVAL;VALUE=DURATION:PT1H
X-Robots-Tag:noindex
X-PUBLISHED-TTL:PT1H
BEGIN:VTIMEZONE
TZID:Europe/Helsinki
BEGIN:DAYLIGHT
TZOFFSETFROM:+0200
TZOFFSETTO:+0300
TZNAME:EEST
DTSTART:20250330T010000
END:DAYLIGHT
BEGIN:STANDARD
TZOFFSETFROM:+0300
TZOFFSETTO:+0200
TZNAME:EET
DTSTART:20251026T010000
END:STANDARD
BEGIN:DAYLIGHT
TZOFFSETFROM:+0200
TZOFFSETTO:+0300
TZNAME:EEST
DTSTART:20260329T010000
END:DAYLIGHT
BEGIN:STANDARD
TZOFFSETFROM:+0300
TZOFFSETTO:+0200
TZNAME:EET
DTSTART:20261025T010000
END:STANDARD
BEGIN:DAYLIGHT
TZOFFSETFROM:+0200
TZOFFSETTO:+0300
TZNAME:EEST
DTSTART:20270328T010000
END:DAYLIGHT
BEGIN:STANDARD
TZOFFSETFROM:+0300
TZOFFSETTO:+0200
TZNAME:EET
DTSTART:20271031T010000
END:STANDARD
BEGIN:DAYLIGHT
TZOFFSETFROM:+0200
TZOFFSETTO:+0300
TZNAME:EEST
DTSTART:20280326T010000
END:DAYLIGHT
BEGIN:STANDARD
TZOFFSETFROM:+0300
TZOFFSETTO:+0200
TZNAME:EET
DTSTART:20281029T010000
END:STANDARD
END:VTIMEZONE
BEGIN:VTIMEZONE
TZID:Europe/Zurich
BEGIN:DAYLIGHT
TZOFFSETFROM:+0100
TZOFFSETTO:+0200
TZNAME:CEST
DTSTART:20250330T010000
END:DAYLIGHT
BEGIN:STANDARD
TZOFFSETFROM:+0200
TZOFFSETTO:+0100
TZNAME:CET
DTSTART:20251026T010000
END:STANDARD
BEGIN:DAYLIGHT
TZOFFSETFROM:+0100
TZOFFSETTO:+0200
TZNAME:CEST
DTSTART:20260329T010000
END:DAYLIGHT
BEGIN:STANDARD
TZOFFSETFROM:+0200
TZOFFSETTO:+0100
TZNAME:CET
DTSTART:20261025T010000
END:STANDARD
BEGIN:DAYLIGHT
TZOFFSETFROM:+0100
TZOFFSETTO:+0200
TZNAME:CEST
DTSTART:20270328T010000
END:DAYLIGHT
BEGIN:STANDARD
TZOFFSETFROM:+0200
TZOFFSETTO:+0100
TZNAME:CET
DTSTART:20271031T010000
END:STANDARD
END:VTIMEZONE
BEGIN:VEVENT
DTSTART;TZID=Europe/Helsinki:20260424T100000
DTEND;TZID=Europe/Helsinki:20260531T160000
DTSTAMP:20260422T112448
CREATED:20260420T085609Z
LAST-MODIFIED:20260420T085609Z
UID:10701-1777024800-1780243200@erato-kultur.ch
SUMMARY:Ausstellung. Das Rüttihubelbad - damals und heute
DESCRIPTION:Die Ausstellung bietet anhand von Bildern und Dokumenten spannende Einblicke in die bewegte Geschichte des Rüttihubelbads. Sie erhebt keinen Anspruch auf Vollständigkeit\, eröffnet jedoch auf unterhaltsame Weise einen lebendigen Zugang zur Entwicklung des einstigen Kurbads hin zum heutigen Sozial- und Kulturzentrum. \nDie Ausstellung dauert vom 24. April bis 31. Mai und ist täglich von 10:00 bis 17:00 Uhr geöffnet (ausser Donnerstagnachmittag)\nDer Eintritt ist frei \n 
URL:https://erato-kultur.ch/veranstaltung/ausstellung-ueli-hofer-2-2-2/
LOCATION:Galerie Rüttihubelbad\, Rüttihubel 29\, Walkringen\, 3512\, Schweiz
CATEGORIES:Ausstellungen
ATTACH;FMTTYPE=image/jpeg:https://erato-kultur.ch/wp-content/uploads/2026/04/image_stack_img-301.jpg
ORGANIZER;CN="Erato Kulturb%C3%BCro":MAILTO:kulturbuero@zapp.ch
END:VEVENT
BEGIN:VEVENT
DTSTART;TZID=Europe/Helsinki:20260509T090000
DTEND;TZID=Europe/Helsinki:20260510T130000
DTSTAMP:20260422T112448
CREATED:20241101T115932Z
LAST-MODIFIED:20260218T150123Z
UID:7079-1778317200-1778418000@erato-kultur.ch
SUMMARY:Meditation als Kraftquelle 1 - Wochenendkurs
DESCRIPTION:Meditation als Kraftquelle 1 \nDie Chakren als feinstoffliche Wahrnehmungsorgane stehen im Zentrum dieses  \nWochenendes. Wortmeditationen und eurythmische Elemente helfen\, uns von\nverschiedenen Seiten diesem Thema anzunähern. \nKursort: Kulturzentrum Rüttihubelbad\, 3512 Walkringen \nAnmeldung: http://www.erato-kultur.ch\, 078 661 55 02 \n  \nDatum & Zeit:\nSamstag\, 09. Mai\, 9:00 Uhr – Sonntag\, 10. Mai\, 13:00 Uhr \nHinweis: Meditation als Kraftquelle 2\, „Das Wirken der Engelwelt“ Samstag\, 31.10. bis Sonntag\, 01.11.2026 \nKursleiter:\nRegula Werren\, geboren 1959 in Bern \nMusikstudium mit Hauptfach Violine; Eurythmiestudium in Stuttgart; Langjährige Unterrichtstätigkeit in Eurythmie und Theater im Weissenheim Bern und an der Rudolf Steinerschule in Ittigen; künstlerische Projekte; Ausbildung in Achtsamkeit und Medialität an der «ICH BIN-Schule Bern»; Schulung in anthroposophischer Meditation; Ausbildung in Vitaleurythmie. \nStefan Werren\, geboren 1958 in Bern \nMusikstudium mit Hauptfach Klavier; Studium der Waldorfpädagogik in Stuttgart; Kompositionstudium bei Peter Michael Riehm und Bruno Karrer; Schulung in anthroposophischer Meditation; 32 Jahre Musiklehrer an der Rudolf Steinerschule in Ittigen; Jährliche grosse Chorprojekte mit Jugendlichen und Erwachsenen; Vielfältige kompositorische Tätigkeit. \n  \nPreis:\nCHF 250.00 (Exklusiv Essen und Übernachtung) \nAnmeldung:\n\n← Zurück Vielen Dank für deine Antwort. ✨\n\n\n					\n						\n							\n							\n						\n						\n						\n						\n						\n							\n								\n									\n										\n										\n									\n									\n										\n										\n									\n								\n							\n						\n						\n							\n								\n									\n									\n										\n									\n									\n									\n								\n							\n						\n					\n				\n\n\n\nAnrede\n\n \n			\n				\n					\n						\n						\n						\n					\n				\n				\n			 \n	\n\n\nVor- & Nachname(erforderlich)\n\n \n			\n				\n					\n						\n						\n						\n					\n				\n				\n			 \n	\n\n\nAdresse(erforderlich)\n\n \n			\n				\n					\n						\n						\n						\n					\n				\n				\n			 \n	\n\n\nPostleitzahl & Ort(erforderlich)\n\n \n			\n				\n					\n						\n						\n						\n					\n				\n				\n			 \n	\n\n\nE-Mail(erforderlich)\n\n \n			\n				\n					\n						\n						\n						\n					\n				\n				\n			 \n	\n\n\nAnzahl Tickets(erforderlich)\n	\n		Wähle eine Option\n		1\n		2\n		3\n		4\n		5\n		6\n		7\n		8\n		9\n		10\n	\n\n\n			\n				\n					\n						\n						\n						\n					\n				\n				\n				\n\n\nBemerkungen\n\n \n			\n				\n					\n						\n						\n						\n					\n				\n				\n			\n	\n	\n\n				\n					\n				\n						Senden		\n		\n		\n	 \nΔ
URL:https://erato-kultur.ch/veranstaltung/meditation-als-kraftquelle-1/
LOCATION:Tagungszentrum Rüttihubelbad\, Rüttihubel 29\, Walkringen\, 3512\, Schweiz
CATEGORIES:Kurse
ATTACH;FMTTYPE=image/jpeg:https://erato-kultur.ch/wp-content/uploads/2024/11/AdobeStock_119874455.jpeg
ORGANIZER;CN="Erato Kulturb%C3%BCro":MAILTO:kulturbuero@zapp.ch
END:VEVENT
BEGIN:VEVENT
DTSTART;TZID=Europe/Zurich:20260529T190000
DTEND;TZID=Europe/Zurich:20260529T203000
DTSTAMP:20260422T112448
CREATED:20251020T145331Z
LAST-MODIFIED:20251020T145932Z
UID:10073-1780081200-1780086600@erato-kultur.ch
SUMMARY:Vortrag: "Hinführung in die Welt der Elementargeister" mit Axel Burkart
DESCRIPTION:Vortrag: Hinführung in die Welt der Elementargeister \n  \n \n  \nAxel Burkart\, Bad Reichenhall\nFreitag\, 29. Mai 2026\, 19:00 Uhr \nEintritt: Kollekte \n  \n 
URL:https://erato-kultur.ch/veranstaltung/vortrag-hinfuehrung-in-die-welt-der-elementargeister-mit-axel-burkart/
LOCATION:Kulturzentrum Rüttihubelbad\, Rüttihubel 29\, Walkringen\, 3512\, Schweiz
ATTACH;FMTTYPE=image/jpeg:https://erato-kultur.ch/wp-content/uploads/2019/11/16.05.-e1574606592640.jpg
ORGANIZER;CN="Erato Kulturb%C3%BCro":MAILTO:kulturbuero@zapp.ch
END:VEVENT
BEGIN:VEVENT
DTSTART;TZID=Europe/Helsinki:20260530T090000
DTEND;TZID=Europe/Helsinki:20260531T123000
DTSTAMP:20260422T112448
CREATED:20251020T144152Z
LAST-MODIFIED:20260202T091839Z
UID:10069-1780131600-1780230600@erato-kultur.ch
SUMMARY:Seminar: "Welt und Geheimnis der Elementarwesen und ihrer Wirkung in unserem Alltag" mit Axel Burkart
DESCRIPTION:In diesem Seminar widmen wir uns das grosse Thema der Elementar- oder Naturwesen\, der Elementargeister\, wie man sie auch benennt. Wir haben alle schon von den Sylphen\, Undinen\, Gnomen\, usw. gehört. Aber diese Welt ist viel grösser und mysteriöser\, als wir uns das vorstellen können. Und sie ist nicht einfach zu erfassen. Wir haben hier zu klären\, was und wer diese Wesen sind\, in welchen Welten sie leben\, wo sie herkommen\, was ihre Aufgabe oder Funktion ist\, wie sie mit den grossen Hierarchien in Verbindung stehen und vor allem mit uns und unseren Körpern. Es wird auch darum gehen\, ob diese Wesen uns wohlgesonnen sind\, welche unter ihnen eher Widersacher sind oder Foppgeister. Und es wird darum gehen\, wie wir bewusst mit diesen Wesen umgehen können zum Wohle aller. \nDatum & Zeit:\nSamstag\, 30. – Sonntag\, 31. Mai 2026 \nDie Seminarzeiten (inkl\, Pausen)\nSamstag\, 30.05.2026\n09:00 Uhr Begrüssung\n09:05 – 12:30 Uhr Seminar\n12:30 – 13:30 Uhr gemeinsames Mittagessen\n13:30 – 17:00 Uhr Seminar \nSonntag\, 31.05.2026\n09:00 – 12:30 Uhr Seminar \nSeminarleitung:\n\nAxel Burkart\, Bad Reichenhall \nLinks:\nZur Webseite Akademie Zukunft Mensch Axel Burkart\nZur Webseite der Holiversität \nPreis:\nCHF 290.00 zzgl. Mahlzeiten\nNach Eingang der Zahlung ist die Anmeldung verbindlich. \nMaterial zum weiteren Selbststudium kann vor Ort käuflich erworben werden. \nAnmeldung:\n\n← Zurück Vielen Dank für deine Antwort. ✨\n\n\n					\n						\n							\n							\n						\n						\n						\n						\n						\n							\n								\n									\n										\n										\n									\n									\n										\n										\n									\n								\n							\n						\n						\n							\n								\n									\n									\n										\n									\n									\n									\n								\n							\n						\n					\n				\n\n\n\nAnrede\n\n \n			\n				\n					\n						\n						\n						\n					\n				\n				\n			 \n	\n\n\nVor- & Nachname(erforderlich)\n\n \n			\n				\n					\n						\n						\n						\n					\n				\n				\n			 \n	\n\n\nAdresse(erforderlich)\n\n \n			\n				\n					\n						\n						\n						\n					\n				\n				\n			 \n	\n\n\nPostleitzahl & Ort(erforderlich)\n\n \n			\n				\n					\n						\n						\n						\n					\n				\n				\n			 \n	\n\n\nE-Mail(erforderlich)\n\n \n			\n				\n					\n						\n						\n						\n					\n				\n				\n			 \n	\n\n\nAnzahl Tickets(erforderlich)\n	\n		Wähle eine Option\n		1\n		2\n		3\n		4\n		5\n		6\n		7\n		8\n		9\n		10\n	\n\n\n			\n				\n					\n						\n						\n						\n					\n				\n				\n				\n\n\nBemerkungen\n\n \n			\n				\n					\n						\n						\n						\n					\n				\n				\n			\n	\n\n\n \nIch habe die Allgemeine Geschäftsbedingungen gelesen(erforderlich)\n\n\n			\n				\n					\n						\n						\n						\n					\n				\n				\n				\n	\n\n				\n					\n				\n						Senden		\n		\n		\n	 \nΔ
URL:https://erato-kultur.ch/veranstaltung/seminar-elementarwesen-axel-burkart/
LOCATION:Tagungszentrum Rüttihubelbad\, Rüttihubel 29\, Walkringen\, 3512\, Schweiz
CATEGORIES:Kurse,Seminare,Tagungen,Vorträge
ATTACH;FMTTYPE=image/jpeg:https://erato-kultur.ch/wp-content/uploads/2025/10/Axel_Burkart_1000x1000.jpg
ORGANIZER;CN="Erato Kulturb%C3%BCro":MAILTO:kulturbuero@zapp.ch
END:VEVENT
BEGIN:VEVENT
DTSTART;TZID=Europe/Helsinki:20260606T170000
DTEND;TZID=Europe/Helsinki:20260823T160000
DTSTAMP:20260422T112448
CREATED:20260420T083159Z
LAST-MODIFIED:20260420T084108Z
UID:10687-1780765200-1787500800@erato-kultur.ch
SUMMARY:Ausstellung. Werke von Jacques Gutknecht
DESCRIPTION:Spiralen in Varianten – Werke von Jacques Gutknecht \nFünfzig Jahre Skulptur\, 1976 – 2026 \nVernissage: Samstag\, 6. Juni 2026\, 17:00 Uhr\nFinissage: Sonntag\, 23. August\, 16:00 Uhr\nDer Künstler ist an diesen Tagen anwesend\, weitere Treffen nach Vereinbarung: http://www.sculpwood.com\, 077 537 39 39 \nDie Ausstellung dauert vom 6. Juni bis 23. August 2026 und ist täglich von 10:00 bis 17:00 geöffnet (ausser Donnerstagnachmittag) \nWebseite von Jacques Gutknecht \n 
URL:https://erato-kultur.ch/veranstaltung/ausstellung-ueli-hofer-2-2/
LOCATION:Galerie Rüttihubelbad\, Rüttihubel 29\, Walkringen\, 3512\, Schweiz
CATEGORIES:Ausstellungen
ATTACH;FMTTYPE=image/jpeg:https://erato-kultur.ch/wp-content/uploads/2026/04/spiralen-in-varianten-2_Seite_1.jpg
ORGANIZER;CN="Erato Kulturb%C3%BCro":MAILTO:kulturbuero@zapp.ch
END:VEVENT
BEGIN:VEVENT
DTSTART;TZID=Europe/Helsinki:20260611T094000
DTEND;TZID=Europe/Helsinki:20260611T164000
DTSTAMP:20260422T112448
CREATED:20250924T173716Z
LAST-MODIFIED:20260223T143442Z
UID:9905-1781170800-1781196000@erato-kultur.ch
SUMMARY:Weiterbildung zur Begleitung von Menschen am Lebensende Modul 5
DESCRIPTION:Zeit der Lebensverarbeitung – Kamaloka \nKönnen wir erahnen\, wie die Zeit der Lebensverarbeitung vollzogen wird? Wir beleuchten den Weg des Menschen im Nachtodlichen und begegnen der Bedeutung von Schicksal und Karma. \nDatum & Zeit:\nDonnerstag\, 11. Juni 2026 \nKursleiter:\nUrsa Neuhaus\, lic.phil. dipl. Pflegefachfrau \nSusann Temperli\, Lehrerin\, Musiktherapeutin \nEdith Siegwart\, Heilpädagogin\, Dozentin HFS \nPreis:\nCHF 190.00 \nAnmeldung:\n\n← Zurück Vielen Dank für deine Antwort. ✨\n\n\n					\n						\n							\n							\n						\n						\n						\n						\n						\n							\n								\n									\n										\n										\n									\n									\n										\n										\n									\n								\n							\n						\n						\n							\n								\n									\n									\n										\n									\n									\n									\n								\n							\n						\n					\n				\n\n\n\nAnrede\n\n \n			\n				\n					\n						\n						\n						\n					\n				\n				\n			 \n	\n\n\nVor- & Nachname(erforderlich)\n\n \n			\n				\n					\n						\n						\n						\n					\n				\n				\n			 \n	\n\n\nAdresse(erforderlich)\n\n \n			\n				\n					\n						\n						\n						\n					\n				\n				\n			 \n	\n\n\nPostleitzahl & Ort(erforderlich)\n\n \n			\n				\n					\n						\n						\n						\n					\n				\n				\n			 \n	\n\n\nE-Mail(erforderlich)\n\n \n			\n				\n					\n						\n						\n						\n					\n				\n				\n			 \n	\n\n\nAnzahl Tickets(erforderlich)\n	\n		Wähle eine Option\n		1\n		2\n		3\n		4\n		5\n		6\n		7\n		8\n		9\n		10\n	\n\n\n			\n				\n					\n						\n						\n						\n					\n				\n				\n				\n\n\nBemerkungen\n\n \n			\n				\n					\n						\n						\n						\n					\n				\n				\n			\n	\n\n\n \nAllgemeine Geschäftsbedingungen gelesen(erforderlich)\n\n\n			\n				\n					\n						\n						\n						\n					\n				\n				\n				\n\n\n \nMittagessen bestellen: Orientalischer Teller\, Hummus\, Falafel\, Auberginen-Püree und Spinat-Feta Kuchen. CHF 24.50- Sie bezahlen das Essen direkt vor Ort\n\n\n			\n				\n					\n						\n						\n						\n					\n				\n				\n				\n	\n\n				\n					\n				\n						Senden		\n		\n		\n	 \nΔ
URL:https://erato-kultur.ch/veranstaltung/sterbebegleitung_modul_5_2026/
LOCATION:Tagungszentrum Rüttihubelbad\, Rüttihubel 29\, Walkringen\, 3512\, Schweiz
CATEGORIES:Kurse
END:VEVENT
BEGIN:VEVENT
DTSTART;TZID=Europe/Helsinki:20260903T094000
DTEND;TZID=Europe/Helsinki:20260903T164000
DTSTAMP:20260422T112448
CREATED:20250924T174537Z
LAST-MODIFIED:20260202T172954Z
UID:9908-1788428400-1788453600@erato-kultur.ch
SUMMARY:Weiterbildung zur Begleitung von Menschen am Lebensende Modul 6
DESCRIPTION:Konkret begleiten \nWir vertiefen praktische Gesichtspunkte zum Sterbeprozess und zum Nachtodlichen. Welche Haltung und welche moralischen Verpflichtungen \ngehe ich bei der Begleitung von Menschen am Lebensende ein? \nDatum & Zeit:\nDonnerstag\, 3. September 2026 \nKursleiter:\nUrsa Neuhaus\, lic.phil. dipl. Pflegefachfrau \nSusann Temperli\, Lehrerin\, Musiktherapeutin \nEdith Siegwart\, Heilpädagogin\, Dozentin HFS \nPreis:\nCHF 190.00 \nAnmeldung:\n\n← Zurück Vielen Dank für deine Antwort. ✨\n\n\n					\n						\n							\n							\n						\n						\n						\n						\n						\n							\n								\n									\n										\n										\n									\n									\n										\n										\n									\n								\n							\n						\n						\n							\n								\n									\n									\n										\n									\n									\n									\n								\n							\n						\n					\n				\n\n\n\nAnrede\n\n \n			\n				\n					\n						\n						\n						\n					\n				\n				\n			 \n	\n\n\nVor- & Nachname(erforderlich)\n\n \n			\n				\n					\n						\n						\n						\n					\n				\n				\n			 \n	\n\n\nAdresse(erforderlich)\n\n \n			\n				\n					\n						\n						\n						\n					\n				\n				\n			 \n	\n\n\nPostleitzahl & Ort(erforderlich)\n\n \n			\n				\n					\n						\n						\n						\n					\n				\n				\n			 \n	\n\n\nE-Mail(erforderlich)\n\n \n			\n				\n					\n						\n						\n						\n					\n				\n				\n			 \n	\n\n\nAnzahl Tickets(erforderlich)\n	\n		Wähle eine Option\n		1\n		2\n		3\n		4\n		5\n		6\n		7\n		8\n		9\n		10\n	\n\n\n			\n				\n					\n						\n						\n						\n					\n				\n				\n				\n\n\nBemerkungen\n\n \n			\n				\n					\n						\n						\n						\n					\n				\n				\n			\n	\n\n\n \nAllgemeine Geschäftsbedingungen gelesen(erforderlich)\n\n\n			\n				\n					\n						\n						\n						\n					\n				\n				\n				\n	\n\n				\n					\n				\n						Senden		\n		\n		\n	 \nΔ
URL:https://erato-kultur.ch/veranstaltung/sterbebegleitung_modul_6_2026/
LOCATION:Michaelzweig der Anthroposophischen Gesellschaft in der Schweiz\, Lavaterstrasse 97\, Zürich\, 8002\, Schweiz
CATEGORIES:Kurse
END:VEVENT
BEGIN:VEVENT
DTSTART;TZID=Europe/Helsinki:20261003T170000
DTEND;TZID=Europe/Helsinki:20261115T170000
DTSTAMP:20260422T112448
CREATED:20260421T071857Z
LAST-MODIFIED:20260421T071857Z
UID:10712-1791046800-1794762000@erato-kultur.ch
SUMMARY:Ausstellung. Werke von Monika Gaberell
DESCRIPTION:Geboren im Jahr 1944\, absolvierte Monika Gaberell ihre Lehrerinnenausbildung in Bern und arbeitete anschliessend als Primarlehrerin\, während sie gleichzeitig ihre Familie betreute. Im Jahr 1983 gehörte sie zu den Mitbegründerinnen der Rudolf-Steiner-Schule in Langenthal\, an der sie bis 2013 als Lehrerin tätig war. Seit 2014 widmet sie sich ihrer künstlerischen Ausbildung an der NetzWerk Malerei Schule in Münchenstein. Ihre Werke präsentierte sie unter anderem 2018 im Kirchgemeindehaus Riedli in Aarwangen\, 2021 im Räberstöckli in Niederbipp sowie 2023 in der Galerie 63 in Melchnau. \nJetzt werden ihre Arbeiten in der Galerie Rüttihubelbad zu sehen sein. \nVernissage: Samstag\, 3. Oktober 2026\, 17:00 Uhr\nDie Ausstellung dauert vom 3. Oktober bis 15. November 2026 und ist täglich von 10:00 bis 17:00 geöffnet (ausser Donnerstagnachmittag) \nWebseite von Monika Gaberell \n 
URL:https://erato-kultur.ch/veranstaltung/ausstellung-monika-gaberell/
LOCATION:Galerie Rüttihubelbad\, Rüttihubel 29\, Walkringen\, 3512\, Schweiz
CATEGORIES:Ausstellungen
ATTACH;FMTTYPE=image/jpeg:https://erato-kultur.ch/wp-content/uploads/2026/04/monika_gaberell_2019-31.jpg
ORGANIZER;CN="Erato Kulturb%C3%BCro":MAILTO:kulturbuero@zapp.ch
END:VEVENT
BEGIN:VEVENT
DTSTART;TZID=Europe/Zurich:20261024T190000
DTEND;TZID=Europe/Zurich:20261024T203000
DTSTAMP:20260422T112448
CREATED:20251215T183630Z
LAST-MODIFIED:20251215T183757Z
UID:10302-1792868400-1792873800@erato-kultur.ch
SUMMARY:Singendes Licht - Eurythmie\, Musik und Sprache
DESCRIPTION:Singendes Licht\nVon himmlischen Boten\, Wächtern und Gefährten\nEurythmie\, Musik und Sprache \nMusik von Stefan Werren\nGedichte von Hans Arp\, Hilde Domin\, Paul Celan u.a. \nEurythmie: Esther Fuchs\, Susanne Meyer\, Therese Osswald\, Susanna Siconolfi\, Regula Werren \nKlavier: Stefan Werren\nSprache: Juliane Lang \n  \nDatum und Zeit:\nSamstag\, 24. Oktober 2026\, 19:00 Uhr \nEintritt frei\, Kollekte
URL:https://erato-kultur.ch/veranstaltung/singendes-licht-eurythmie-musik-und-sprache/
LOCATION:Kulturzentrum Rüttihubelbad\, Rüttihubel 29\, Walkringen\, 3512\, Schweiz
CATEGORIES:Eurythmie,Konzerte,Theater
ATTACH;FMTTYPE=image/jpeg:https://erato-kultur.ch/wp-content/uploads/2025/12/Engel8.jpg
ORGANIZER;CN="Erato Kulturb%C3%BCro":MAILTO:kulturbuero@zapp.ch
END:VEVENT
BEGIN:VEVENT
DTSTART;TZID=Europe/Helsinki:20261031T090000
DTEND;TZID=Europe/Helsinki:20261101T130000
DTSTAMP:20260422T112448
CREATED:20250606T182759Z
LAST-MODIFIED:20260202T172647Z
UID:8860-1793437200-1793538000@erato-kultur.ch
SUMMARY:Meditation als Kraftquelle 2 - Wochenendkurs
DESCRIPTION:Meditation als Kraftquelle 2 \nDas Wirken der Engelwelt steht im Zentrum dieses Wochenendes.\nWortmeditationen und eurythmische Elemente helfen\, uns von verschiedenen Seiten  diesen Sphären anzunähern. \nKursort: Kulturzentrum Rüttihubelbad\, 3512 Walkringen \nAnmeldung: http://www.erato-kultur.ch\, 078 661 55 02 \n  \nDatum & Zeit:\nSamstag\, 31. Oktober\, 9:00 Uhr – Sonntag\, 01. November 2026\, 13:00 Uhr \nKursleiter:\nRegula Werren\, geboren 1959 in Bern \nMusikstudium mit Hauptfach Violine; Eurythmiestudium in Stuttgart; Langjährige Unterrichtstätigkeit in Eurythmie und Theater im Weissenheim Bern und an der Rudolf Steinerschule in Ittigen; künstlerische Projekte; Ausbildung in Achtsamkeit und Medialität an der «ICH BIN-Schule Bern»; Schulung in anthroposophischer Meditation; Ausbildung in Vitaleurythmie. \nStefan Werren\, geboren 1958 in Bern \nMusikstudium mit Hauptfach Klavier; Studium der Waldorfpädagogik in Stuttgart; Kompositionstudium bei Peter Michael Riehm und Bruno Karrer; Schulung in anthroposophischer Meditation; 32 Jahre Musiklehrer an der Rudolf Steinerschule in Ittigen; Jährliche grosse Chorprojekte mit Jugendlichen und Erwachsenen; Vielfältige kompositorische Tätigkeit. \n  \nPreis:\nCHF 250.00 (Exklusiv Essen und Übernachtung) \nAnmeldung:\n\n← Zurück Vielen Dank für deine Antwort. ✨\n\n\n					\n						\n							\n							\n						\n						\n						\n						\n						\n							\n								\n									\n										\n										\n									\n									\n										\n										\n									\n								\n							\n						\n						\n							\n								\n									\n									\n										\n									\n									\n									\n								\n							\n						\n					\n				\n\n\n\nAnrede\n\n \n			\n				\n					\n						\n						\n						\n					\n				\n				\n			 \n	\n\n\nVor- & Nachname(erforderlich)\n\n \n			\n				\n					\n						\n						\n						\n					\n				\n				\n			 \n	\n\n\nAdresse(erforderlich)\n\n \n			\n				\n					\n						\n						\n						\n					\n				\n				\n			 \n	\n\n\nPostleitzahl & Ort(erforderlich)\n\n \n			\n				\n					\n						\n						\n						\n					\n				\n				\n			 \n	\n\n\nE-Mail(erforderlich)\n\n \n			\n				\n					\n						\n						\n						\n					\n				\n				\n			 \n	\n\n\nAnzahl Tickets(erforderlich)\n	\n		Wähle eine Option\n		1\n		2\n		3\n		4\n		5\n		6\n		7\n		8\n		9\n		10\n	\n\n\n			\n				\n					\n						\n						\n						\n					\n				\n				\n				\n\n\nBemerkungen\n\n \n			\n				\n					\n						\n						\n						\n					\n				\n				\n			\n	\n\n\n \nAllgemeine Geschäftsbedingungen gelesen(erforderlich)\n\n\n			\n				\n					\n						\n						\n						\n					\n				\n				\n				\n	\n\n				\n					\n				\n						Senden		\n		\n		\n	 \nΔ
URL:https://erato-kultur.ch/veranstaltung/meditation-als-kraftquelle-2/
LOCATION:Tagungszentrum Rüttihubelbad\, Rüttihubel 29\, Walkringen\, 3512\, Schweiz
CATEGORIES:Kurse
ORGANIZER;CN="Erato Kulturb%C3%BCro":MAILTO:kulturbuero@zapp.ch
END:VEVENT
BEGIN:VEVENT
DTSTART;TZID=Europe/Helsinki:20261120T094000
DTEND;TZID=Europe/Helsinki:20261120T164000
DTSTAMP:20260422T112448
CREATED:20250924T175112Z
LAST-MODIFIED:20260202T172839Z
UID:9913-1795167600-1795192800@erato-kultur.ch
SUMMARY:Weiterbildung zur Begleitung von Menschen am Lebensende Modul 7\, gemeinsamer Abschluss
DESCRIPTION:Gemeinsamer Abschluss \nMit einem gemeinsamen Abschluss tragen die Teilnehmenden ihre eigenen Themen zur Sterbekultur in der Gemeinschaft vor. Vorträge\, \nPräsentationen und Diskussionen sind mögliche Formen \nDatum & Zeit:\nFreitag\, 20. November 2026 \nKursleiter:\nUrsa Neuhaus\, lic.phil. dipl. Pflegefachfrau \nSusann Temperli\, Lehrerin\, Musiktherapeutin \nEdith Siegwart\, Heilpädagogin\, Dozentin HFS \nPreis:\nCHF 190.00 \nAnmeldung:\n\n← Zurück Vielen Dank für deine Antwort. ✨\n\n\n					\n						\n							\n							\n						\n						\n						\n						\n						\n							\n								\n									\n										\n										\n									\n									\n										\n										\n									\n								\n							\n						\n						\n							\n								\n									\n									\n										\n									\n									\n									\n								\n							\n						\n					\n				\n\n\n\nAnrede\n\n \n			\n				\n					\n						\n						\n						\n					\n				\n				\n			 \n	\n\n\nVor- & Nachname(erforderlich)\n\n \n			\n				\n					\n						\n						\n						\n					\n				\n				\n			 \n	\n\n\nAdresse(erforderlich)\n\n \n			\n				\n					\n						\n						\n						\n					\n				\n				\n			 \n	\n\n\nPostleitzahl & Ort(erforderlich)\n\n \n			\n				\n					\n						\n						\n						\n					\n				\n				\n			 \n	\n\n\nE-Mail(erforderlich)\n\n \n			\n				\n					\n						\n						\n						\n					\n				\n				\n			 \n	\n\n\nAnzahl Tickets(erforderlich)\n	\n		Wähle eine Option\n		1\n		2\n		3\n		4\n		5\n		6\n		7\n		8\n		9\n		10\n	\n\n\n			\n				\n					\n						\n						\n						\n					\n				\n				\n				\n\n\nBemerkungen\n\n \n			\n				\n					\n						\n						\n						\n					\n				\n				\n			\n	\n\n\n \nAllgemeine Geschäftsbedingungen gelesen(erforderlich)\n\n\n			\n				\n					\n						\n						\n						\n					\n				\n				\n				\n	\n\n				\n					\n				\n						Senden		\n		\n		\n	 \nΔ
URL:https://erato-kultur.ch/veranstaltung/sterbebegleitung_modul_7_2026/
LOCATION:Michaelzweig der Anthroposophischen Gesellschaft in der Schweiz\, Lavaterstrasse 97\, Zürich\, 8002\, Schweiz
CATEGORIES:Kurse
END:VEVENT
BEGIN:VEVENT
DTSTART;TZID=Europe/Helsinki:20270116T100000
DTEND;TZID=Europe/Helsinki:20270221T170000
DTSTAMP:20260422T112448
CREATED:20251120T124830Z
LAST-MODIFIED:20251120T124931Z
UID:10223-1800093600-1803229200@erato-kultur.ch
SUMMARY:Ausstellung. Ueli Hofer\, Geschnittenes Papier\, Collagen und Objekte
DESCRIPTION:Ueli Hofer: Geschnittenes Papier\, Collagen und Objekte \nDie Ausstellung dauert von 16. Januar bis 21. Februar 2027 und ist täglich von 10:00 bis 17:00 Uhr geöffnet. \nDer Künstler ist jeden Samstag und Sonntag zwischen 14:00 und 17:00 Uhr anwesend\nueli.hofer@bluemail.ch | http://www.uelihofer.ch \n  \nBereits zum fünften Mal kann die Galerie Rüttihubelbad Bilder von Ueli Hofer ausstellen. Gelegenheit\, sich mit dem reichhaltigen Werk des Künstlers auseinanderzusetzen. Schicksalhaft war vor 50 Jahren dessen Begegnung mit Papier und Schere\, die ihn zu seiner wahren Bestimmung führte. Unterdessen ist sein unverkennbarer Stil in der Szene des geschnittenen Papiers nicht mehr wegzudenken\, er hat sie geprägt\, indem er Traditionelles bewahrt und gleichzeitig wundersam weiterentwickelt hat. In die Kompaktheit eines Papiers schneidet er sich ein\, holt Figürliches\, Köperhaftes hervor und komponiert es zu neuen Welten\, Welten der Natur\, des menschlichen Daseins\, des Traumhaften – und alles wird harmonisch\, leicht und fein\, als wäre es immer so gedacht gewesen. Uelis Hofers Scherenschnitte berühren durch ihre Vollkommenheit\, durch Schönheit und durch ihren tiefseelischen Sinn. Was kaum erahnt werden kann\, ist hier ausgedrückt und bildlich gestaltet\, Kreisläufe des Lebens\, Wege\, Wachsendes und Vergehendes\, das Weite und Geborgene. In einer parallelen oder erweiternden Weise setzt Ueli Hofer seine künstlerischen Impulse auch in Collagen um. In ihnen finden sich vielerlei Elemente von geschnittenem Papier über Gegenständliches bis zu Textstücken. «Kunst macht unruhig und führt zu Ruhe» – diesem Credo folgt der Künstler in seinem täglichen\, rastlosen Schaffen. Die Bilder wollen ihn\, fordern von ihm\, geschöpft zu werden. Daraus entwickelt sich eine sehr nahe Verbindung von Werk und Künstler\, ein Dialog\, eine Beziehung\, aus der auszubrechen nicht geht. Auch an dieser Ausstellung wird diese Intensität für den Betrachter erlebbar sein. Sie wird ihn mitnehmen und staunen lassen zu welch grossem\, bedeutungsvollem und lebendigem Ausdruck lebenslängliches Kunstschaffen führen kann. \nAnnette Graeter
URL:https://erato-kultur.ch/veranstaltung/ausstellung-ueli-hofer-2/
LOCATION:Galerie Rüttihubelbad\, Rüttihubel 29\, Walkringen\, 3512\, Schweiz
CATEGORIES:Ausstellungen
ATTACH;FMTTYPE=image/png:https://erato-kultur.ch/wp-content/uploads/2024/10/u-hofer1.png
ORGANIZER;CN="Erato Kulturb%C3%BCro":MAILTO:kulturbuero@zapp.ch
END:VEVENT
END:VCALENDAR